BEGIN:VCALENDAR
VERSION:2.0
PRODID:-//BCMD Verband e.V. - ECPv6.14.2//NONSGML v1.0//EN
CALSCALE:GREGORIAN
METHOD:PUBLISH
X-WR-CALNAME:BCMD Verband e.V.
X-ORIGINAL-URL:https://bcmd.de
X-WR-CALDESC:Veranstaltungen für BCMD Verband e.V.
REFRESH-INTERVAL;VALUE=DURATION:PT1H
X-Robots-Tag:noindex
X-PUBLISHED-TTL:PT1H
BEGIN:VTIMEZONE
TZID:Europe/Berlin
BEGIN:DAYLIGHT
TZOFFSETFROM:+0100
TZOFFSETTO:+0200
TZNAME:CEST
DTSTART:20270328T010000
END:DAYLIGHT
BEGIN:STANDARD
TZOFFSETFROM:+0200
TZOFFSETTO:+0100
TZNAME:CET
DTSTART:20271031T010000
END:STANDARD
END:VTIMEZONE
BEGIN:VEVENT
DTSTART;VALUE=DATE:20270130
DTEND;VALUE=DATE:20270131
DTSTAMP:20260420T201120
CREATED:20260317T194231Z
LAST-MODIFIED:20260317T194231Z
UID:2709-1801267200-1801353599@bcmd.de
SUMMARY:Mitgliederversammlung des BCMD in Bonn
DESCRIPTION:Die nächste Mitgliederversammlung des BCMD e.V. findet am 30.01.2027 in Bonn statt. Details werden noch bekannt gegeben.
URL:https://bcmd.de/event/mitgliederversammlung-des-bcmd-in-bonn/
END:VEVENT
END:VCALENDAR