BEGIN:VCALENDAR
VERSION:2.0
PRODID:-//BCMD Verband e.V. - ECPv6.14.2//NONSGML v1.0//EN
CALSCALE:GREGORIAN
METHOD:PUBLISH
X-ORIGINAL-URL:https://bcmd.de
X-WR-CALDESC:Veranstaltungen für BCMD Verband e.V.
REFRESH-INTERVAL;VALUE=DURATION:PT1H
X-Robots-Tag:noindex
X-PUBLISHED-TTL:PT1H
BEGIN:VTIMEZONE
TZID:Europe/Berlin
BEGIN:DAYLIGHT
TZOFFSETFROM:+0100
TZOFFSETTO:+0200
TZNAME:CEST
DTSTART:20260329T010000
END:DAYLIGHT
BEGIN:STANDARD
TZOFFSETFROM:+0200
TZOFFSETTO:+0100
TZNAME:CET
DTSTART:20261025T010000
END:STANDARD
END:VTIMEZONE
BEGIN:VEVENT
DTSTART;TZID=Europe/Berlin:20260506T180000
DTEND;TZID=Europe/Berlin:20260506T220000
DTSTAMP:20260420T152535
CREATED:20260317T194409Z
LAST-MODIFIED:20260415T211508Z
UID:2711-1778090400-1778104800@bcmd.de
SUMMARY:1. Stammtisch 2026 des BCMD findet in München statt
DESCRIPTION:Am 06. Mai findet der nächste Stammtisch des BCMD in München statt. \nOrt: Königlicher Hirschgarten und Biergarten \n\nHirschgarten 1\, 80639 München\n\n\n\nAlle Mitglieder\, Mietwagenunternehmer/innen und Interessierte Gäste sind herzlich willkommen.\n\nMelden Sie sich bitte bis zum 03.05.2026 beim Vorstand an und teilen Sie uns mit\, mit wie vielen\nPersonen Sie teilnehmen werden.\n\nAnmeldung unter: vorstand@bcmd.de   oder   kassenwart@bcmd.de
URL:https://bcmd.de/event/stammtisch-des-bcmd-in-muenchen/
LOCATION:https://hirschgarten.de/\, Hirschgarten 1\, München\, Bayern\, 80639
END:VEVENT
BEGIN:VEVENT
DTSTART;TZID=Europe/Berlin:20260520T170000
DTEND;TZID=Europe/Berlin:20260520T190000
DTSTAMP:20260420T152535
CREATED:20260415T210028Z
LAST-MODIFIED:20260415T210028Z
UID:2726-1779296400-1779303600@bcmd.de
SUMMARY:Nächste Vorstandstelko am 20.05.2026 ab 17:00 Uhr
DESCRIPTION:Die nächste Vorstandstelko findet am 20.05.2026 ab 17:00 Uhr per Zoom Meeting statt.  \nDazu laden wir alle Mitglieder ein\, um sich einen Überblick über die Arbeit des Vorstandes \nzu machen und sich gern in die Arbeit des BCMD e.V. mit einzubringen.  \nMelden Sie sich einfach kurz per Mail unter: Vorstand@bcmd.de an und wir senden Ihnen  \nden Einladungslink kurz vorher mit zu.  \nSollten Sie Anregungen\, Fragen und Wünsche zum BCMD haben\, dann sprechen Sie gern  \nüber die Mailadresse mit an.
URL:https://bcmd.de/event/naechste-vorstandstelko-am-20-05-2026-ab-1700-uhr/
END:VEVENT
END:VCALENDAR